BEGIN:VCALENDAR
VERSION:2.0
PRODID:-//CCS Houston - ECPv6.15.20//NONSGML v1.0//EN
CALSCALE:GREGORIAN
METHOD:PUBLISH
X-ORIGINAL-URL:https://ccs-houston.com
X-WR-CALDESC:Events for CCS Houston
REFRESH-INTERVAL;VALUE=DURATION:PT1H
X-Robots-Tag:noindex
X-PUBLISHED-TTL:PT1H
BEGIN:VTIMEZONE
TZID:America/Chicago
BEGIN:DAYLIGHT
TZOFFSETFROM:-0600
TZOFFSETTO:-0500
TZNAME:CDT
DTSTART:20250309T080000
END:DAYLIGHT
BEGIN:STANDARD
TZOFFSETFROM:-0500
TZOFFSETTO:-0600
TZNAME:CST
DTSTART:20251102T070000
END:STANDARD
BEGIN:DAYLIGHT
TZOFFSETFROM:-0600
TZOFFSETTO:-0500
TZNAME:CDT
DTSTART:20260308T080000
END:DAYLIGHT
BEGIN:STANDARD
TZOFFSETFROM:-0500
TZOFFSETTO:-0600
TZNAME:CST
DTSTART:20261101T070000
END:STANDARD
BEGIN:DAYLIGHT
TZOFFSETFROM:-0600
TZOFFSETTO:-0500
TZNAME:CDT
DTSTART:20270314T080000
END:DAYLIGHT
BEGIN:STANDARD
TZOFFSETFROM:-0500
TZOFFSETTO:-0600
TZNAME:CST
DTSTART:20271107T070000
END:STANDARD
END:VTIMEZONE
BEGIN:VEVENT
DTSTART;TZID=America/Chicago:20260425T100000
DTEND;TZID=America/Chicago:20260425T170000
DTSTAMP:20260423T051830
CREATED:20260409T120906Z
LAST-MODIFIED:20260409T162834Z
UID:66604-1777111200-1777136400@ccs-houston.com
SUMMARY:Houston Funko Pop Mart
DESCRIPTION:30+ specialized Funko vendors. Every fandom. One floor. Houston\, the hunt starts here. \nFunko Pop Mart hits CCS Houston on Saturday\, April 25th! A one-day collector marketplace built entirely around Funko Pop. No general tables. No filler inventory. Just vendors who live and breathe this hobby bringing their best to the floor. \n📅 Saturday\, April 25\, 2026 · 10AM–6PM  \n📍 9700 Bissonnet St #1500\, Houston\, TX 77036  \n🎟 FREE Entry · FREE Parking · Always. \nFrom vaulted grails and SDCC/NYCC convention exclusives to chases\, flocked variants\, glow-in-the-dark\, and sticker exclusives — if it exists in the Funko catalog\, it’s probably on this floor. Marvel\, DC\, anime\, horror\, gaming\, sports\, pop culture deep cuts — every fandom is represented. \nBring your want list. Bring your duplicates. Buy\, sell\, and trade with 30+ Houston collectors and specialists who know exactly what they have and what it’s worth. This is the room where deals actually get made. \n🛍️ Funko Vendors — Apply to Table Funko specialists ready to bring their inventory to Houston — apply here: https://forms.gle/pUuxtBi5hUHoMaELA \nFunko Pop Mart is where Houston collectors come to find the one that got away — see you April 25th.
URL:https://ccs-houston.com/events/houston-funko-pop-mart/
CATEGORIES:Action Figure & Toy
ATTACH;FMTTYPE=image/png:https://ccs-houston.com/wp-content/uploads/2026/04/1-16.png
END:VEVENT
END:VCALENDAR