BEGIN:VCALENDAR
VERSION:2.0
PRODID:-//CCS Houston - ECPv6.15.20//NONSGML v1.0//EN
CALSCALE:GREGORIAN
METHOD:PUBLISH
X-WR-CALNAME:CCS Houston
X-ORIGINAL-URL:https://ccs-houston.com
X-WR-CALDESC:Events for CCS Houston
REFRESH-INTERVAL;VALUE=DURATION:PT1H
X-Robots-Tag:noindex
X-PUBLISHED-TTL:PT1H
BEGIN:VTIMEZONE
TZID:America/Chicago
BEGIN:DAYLIGHT
TZOFFSETFROM:-0600
TZOFFSETTO:-0500
TZNAME:CDT
DTSTART:20250309T080000
END:DAYLIGHT
BEGIN:STANDARD
TZOFFSETFROM:-0500
TZOFFSETTO:-0600
TZNAME:CST
DTSTART:20251102T070000
END:STANDARD
BEGIN:DAYLIGHT
TZOFFSETFROM:-0600
TZOFFSETTO:-0500
TZNAME:CDT
DTSTART:20260308T080000
END:DAYLIGHT
BEGIN:STANDARD
TZOFFSETFROM:-0500
TZOFFSETTO:-0600
TZNAME:CST
DTSTART:20261101T070000
END:STANDARD
BEGIN:DAYLIGHT
TZOFFSETFROM:-0600
TZOFFSETTO:-0500
TZNAME:CDT
DTSTART:20270314T080000
END:DAYLIGHT
BEGIN:STANDARD
TZOFFSETFROM:-0500
TZOFFSETTO:-0600
TZNAME:CST
DTSTART:20271107T070000
END:STANDARD
END:VTIMEZONE
BEGIN:VEVENT
DTSTART;TZID=America/Chicago:20260613T100000
DTEND;TZID=America/Chicago:20260614T170000
DTSTAMP:20260422T002659
CREATED:20260316T135614Z
LAST-MODIFIED:20260316T135730Z
UID:60612-1781344800-1781456400@ccs-houston.com
SUMMARY:Anime Market Houston II
DESCRIPTION:💮✨ Anime Market Houston II – A Weekend For Anime Fans ✨💮\nWhether you’re hunting for the next grail figure\, adding another Nendoroid to your shelf\, building your next Gunpla kit\, or just vibing with fellow fans\, Anime Market Houston is all about fandom\, connection\, and celebrating anime culture together — in a safe\, inclusive space where everyone belongs. 💖 \n  \n🗓️ Date & Time: June 13–14\, 2026 | 10AM – 5PM \n📍 Location: 9700 Bissonnet St\, Unit 1500\, Houston\, TX 77036 \n🎟️ FREE Entry + FREE Parking \n\n🌟 Event Highlights\n🛍️ Massive Anime Marketplace \nShop a curated lineup of anime-focused vendors offering everything an otaku heart could want – including figures & statues\, anime apparels\, Nendoroids\, Gunpla\, blind boxes\, manga\, posters\, charms\, keychains\, plushies\, accessories\, and fan-made creations. Whether you’re grail hunting or browsing for cute finds\, there’s something for every fandom and budget. 💮✨ \n💖 A Gathering for Anime Lovers \nAnime Market Houston isn’t just about shopping – it’s about connecting with fellow fans\, discovering new creators\, and sharing the joy of anime culture together. Bring your friends\, bring your family\, or come solo and leave with new fandom connections. \n🧸 Collectibles Beyond Anime \nIn addition to anime vendors\, explore our 50+ CCS Family Vendors featuring collectibles like retro video games\, trading cards\, comics\, toys\, and pop culture finds. There’s always something unexpected waiting to be discovered. \n\n🌸 Interested in Being a Vendor?\nWe’re looking for anime-focused\, non-TCG vendors to join Anime Market Houston I and help grow Houston’s anime community. \n🔗 Vendor Application: https://tinyurl.com/CCSGuestVendorFromHouston \n\n🏨 Special Hotel Deals\nEnjoy a special room rate of $79/night at TownePlace Suites\, just about 15 minutes from the venue! \nBook your stay 👉 Here \n  \n💮 Whether you’re a longtime otaku\, a new anime fan\, a cosplayer ready to shine\, or a family looking for a fun\, fandom-filled weekend – Anime Market Houston is your home base for all things anime. \nSee you there\, Houston! Let’s make this the start of something special 🎌✨
URL:https://ccs-houston.com/events/anime-market-houston-ii/
CATEGORIES:Anime
ATTACH;FMTTYPE=image/png:https://ccs-houston.com/wp-content/uploads/2026/03/Event-Launch-Kit-Anime-Market-Houston-II.png
END:VEVENT
BEGIN:VEVENT
DTSTART;TZID=America/Chicago:20260620T100000
DTEND;TZID=America/Chicago:20260620T170000
DTSTAMP:20260422T002659
CREATED:20260403T115713Z
LAST-MODIFIED:20260406T185431Z
UID:64814-1781949600-1781974800@ccs-houston.com
SUMMARY:Kpop Demon Hunter Mini Con
DESCRIPTION:⚔️ K-Pop Demon Hunters Mini Con 🔥\nReady your fit check for the napalm era because it’s time to seal the Golden Honmoon with the Kpop Demon Hunters! Step into a world where K-Pop meets supernatural fantasy for a full day of K Pop performances\, cosplays\, K Pop sing along\, panels and crafting stations\, artists & vendors and all fandom fun inspired by the darker side of idol concepts. 🔮⚡ \n  \n🗓️ Date & Time: Saturday | June 20 | 10:00AM – 5:00PM \n📍 Location: 9700 Bissonnet St\, #1500\, Houston\, TX 77036 \n🎟️ FREE Entry & FREE Parking \n\n🌟 EVENT HIGHLIGHTS 🌟\n🛍️ K-Pop Demon Hunter Artist Alley & Market \nShop K-Pop fan art\, handmade jewelry\, posters\, demon-aesthetic prints\, alt fashion\, photocards\, albums\, stickers\, pins\, and more – all from local vendors\, indie artists & small creators. \nVendors Apply 👉🏻 https://tinyurl.com/CCSGuestVendorFromHouston \n🧛 Golden Honmoon Cosplay Showcase – 2PM \nUnleash your inner demon\, hunter\, or K-Pop anti-hero! Dress as a dark-concept idol\, demon-themed OC\, or your own K-fashion creation. 💖✨Check in by 1:30PM – the showcase kicks off at 2PM sharp. \n💃 K-Pop Dance Cover Performance  \nKick off the event with a high-energy dance showcase inspired by your favorite dark-concept K-Pop groups. Expect sharp choreography\, jaw-dropping charisma\, and club-night intensity – all live on stage! \n🎤 Huntr/x Sing-Along  \nStep into the spotlight for an open-mic K-Pop sing-along inspired by dark\, cinematic concepts from ATEEZ\, TXT\, VIXX\, Dreamcatcher\, XG\, and more. Sing\, hype\, or cheer – this is a high-energy fandom moment where idols\, demons\, and music collide. 🖤🔥 \n🧠 K-Pop Demon Hunter Trivia  \nPut your K-Pop Demon Hunter knowledge to the test! From dark-concept eras to iconic lore moments – prove you’re a true stan and win the prize. \n🖤 K-Pop Demon Hunter Top Loader Deco Station  \nTake photocard decorating to the dark side. Create themed top loaders inspired by demon houses\, idol lore\, and supernatural concepts – perfect for trading\, displaying\, or flexing your bias. \n🎨 K-Pop Demon Hunter Paint & Sip with Boba 🧋 \nPaint K-Pop & Demon Hunter inspired art while sipping on boba in a dark fantasy setting. \n\n💌 Want to Join the Hunt?\n🌟 Content Ambassador Apply: https://forms.gle/RnDicoEMg4yV3JWZ7 \n🎤 Panelists / Workshop Hosts Apply: https://forms.gle/q2nCKsZ6FEVZBgqW9 \n💃 Performers Apply: https://forms.gle/ZAe5PCXrRN3V2jQw6 \n🛍️ Vendors Apply: https://tinyurl.com/CCSGuestVendorFromHouston \n🙋‍♀️ Volunteers Apply: https://forms.gle/3PtHaR1Husn7MWeSA \n  \nSummon your crew\, dress in your darkest drip\, and step into a world where idols\, demons\, lore\, and fandom collide. \nCome vibe\, dance\, collect\, and hunt your destiny at the K-Pop Demon Hunters Mini Con. ⚔️💜🔥
URL:https://ccs-houston.com/events/kpop-demon-hunter-mini-con/
CATEGORIES:Anime,Others
ATTACH;FMTTYPE=image/png:https://ccs-houston.com/wp-content/uploads/2026/04/HTX-Banner-IG-Reel-K-Pop-Demon-Hunters-Mini-Con.png
END:VEVENT
BEGIN:VEVENT
DTSTART;TZID=America/Chicago:20260621T100000
DTEND;TZID=America/Chicago:20260621T170000
DTSTAMP:20260422T002700
CREATED:20260416T182747Z
LAST-MODIFIED:20260416T183905Z
UID:69134-1782036000-1782061200@ccs-houston.com
SUMMARY:Houston Cosplay Yard Sale
DESCRIPTION:Houston Cosplay Yard Sale — Cosplay Season Starts Here \nWhether you’re finishing a build\, hunting for that one piece you can’t find anywhere else\, or clearing out the costumes taking up half your closet\, Houston Cosplay Yard Sale is your day! \nHouston’s anime con calendar never slows down. This is where cosplayers show up before the cons – to score wigs\, track down props\, dig through fabric bins\, and walk out actually ready. \n  \n📅 Date: Sunday\, June 21\, 2026 \n⏰ Time: 10AM – 5PM \n🎟️ FREE Entry + FREE Parking \n  \n🔥 Event Highlights 🔥 \n🧵 Sell Your Cosplay Pieces \nGot pieces collecting dust? Wigs you styled once\, props from a cosplay you retired\, accessories you bought and never wore? Table space is open. Clear your shelves\, make some cash\, pass it on to a fellow cosplayer who’ll actually use it. \n👉 Vendor space: Apply here \n🛍️ 40+ Vendors Ready to Complete Your Build \nNew and used cosplay pieces from over 40 vendors — all indoors. Hunt for wigs in every color and cut\, fabric by the yard\, props and armor pieces\, jewelry\, accessories\, and full costumes ready to wear. Whatever your current build is missing\, someone at this show probably has it. \n🎌 CCS Marketplace \nWhen you’re done cosplay shopping\, explore the full CCS floor — anime merch\, figures\, Funko Pop\, trading cards\, retro games\, comics\, and more. All family-friendly. All free to walk. \n  \nCon season in Houston doesn’t wait. Come find your missing piece at Houston Cosplay Yard Sale — June 21 at CCS Houston.
URL:https://ccs-houston.com/events/houston-cosplay-yard-sale/
CATEGORIES:Anime
ATTACH;FMTTYPE=image/png:https://ccs-houston.com/wp-content/uploads/2026/04/Banner-3.png
END:VEVENT
END:VCALENDAR