BEGIN:VCALENDAR
VERSION:2.0
PRODID:-//CCS Houston - ECPv6.15.20//NONSGML v1.0//EN
CALSCALE:GREGORIAN
METHOD:PUBLISH
X-ORIGINAL-URL:https://ccs-houston.com
X-WR-CALDESC:Events for CCS Houston
REFRESH-INTERVAL;VALUE=DURATION:PT1H
X-Robots-Tag:noindex
X-PUBLISHED-TTL:PT1H
BEGIN:VTIMEZONE
TZID:America/Chicago
BEGIN:DAYLIGHT
TZOFFSETFROM:-0600
TZOFFSETTO:-0500
TZNAME:CDT
DTSTART:20250309T080000
END:DAYLIGHT
BEGIN:STANDARD
TZOFFSETFROM:-0500
TZOFFSETTO:-0600
TZNAME:CST
DTSTART:20251102T070000
END:STANDARD
BEGIN:DAYLIGHT
TZOFFSETFROM:-0600
TZOFFSETTO:-0500
TZNAME:CDT
DTSTART:20260308T080000
END:DAYLIGHT
BEGIN:STANDARD
TZOFFSETFROM:-0500
TZOFFSETTO:-0600
TZNAME:CST
DTSTART:20261101T070000
END:STANDARD
BEGIN:DAYLIGHT
TZOFFSETFROM:-0600
TZOFFSETTO:-0500
TZNAME:CDT
DTSTART:20270314T080000
END:DAYLIGHT
BEGIN:STANDARD
TZOFFSETFROM:-0500
TZOFFSETTO:-0600
TZNAME:CST
DTSTART:20271107T070000
END:STANDARD
END:VTIMEZONE
BEGIN:VEVENT
DTSTART;TZID=America/Chicago:20260404T100000
DTEND;TZID=America/Chicago:20260405T170000
DTSTAMP:20260421T105157
CREATED:20260210T143752Z
LAST-MODIFIED:20260210T144220Z
UID:50469-1775296800-1775408400@ccs-houston.com
SUMMARY:CCS Nerd Yard Sale II
DESCRIPTION:♻️🛍️ ONE FAN’S TRASH IS ANOTHER FAN’S TREASURE – ROUND TWO!🛍️♻️\nHouston Nerd Yard Sale is back\, and it’s bigger\, nerdier\, and even more community-driven. This two-day fan-powered marketplace brings collectors\, casual fans\, families\, and bargain hunters together to buy\, sell\, trade\, and pass fandom treasures to their next loving home. \nThis isn’t a convention and it’s not a vendor hall – it’s a true community yard sale\, where shelves get cleared\, deals get made\, and stories get shared across every corner of nerd culture. \nWhether you’re downsizing\, deal-hunting\, or just love digging for surprises\, this is your kind of weekend. \n  \n🗓️ Date & Time: April 4 – April 5\, 2026 | 10AM – 5PM \n📍 Location: 9700 Bissonnet St\, #1500\, Houston\, TX 77036 \n🎟️ FREE Entry + FREE Parking \n\n🧺 FOR SELLERS – CLEAN OUT YOUR COLLECTION\nGot boxes of fandom stuff ready to move? Need to make space? Want to turn old favorites into quick cash? \nHouston Nerd Yard Sale is your chance to set up a table\, meet fellow fans\, and pass your collection on to someone who’ll appreciate it just as much as you did. \nPerfect for: \n\nCollectors downsizing\nCasual sellers\nFamilies cleaning out closets\nFans selling extras\, duplicates\, or impulse buys\n\n🛍️ Apply to be a seller: 👉 https://tinyurl.com/CCSGuestVendorFromHouston \n\n🔍 FOR SHOPPERS – DIG\, DEAL\, DISCOVER\nBargain hunters\, this one’s for you. Spend the day browsing tables packed with affordable\, fan-loved finds across every fandom and era. \n💥 What You Might Find:\n\n📚 Comics\, Manga & Books\n🎮 Retro Games & Consoles (NES\, SNES\, Sega\, PlayStation classics & more)\n🧸 Plushies\, Pins\, Keychains & Gacha\n🧩 Anime Merch\, Figures & Funkos\n📼 VHS Tapes\, Vintage Media & Old-School Collectibles\n👕 Fandom Fashion & Accessories\n🃏 Cards\, Toys\, and Unexpected Gems\n\nPrices are yard-sale friendly\, and every table has something different — you never know what grail you’ll stumble across. \n\n👨‍👩‍👧‍👦 FAMILY-FRIENDLY • ALL FANDOMS WELCOME\nBring the whole crew. Houston Nerd Yard Sale II is a laid-back\, all-ages event built around community\, nostalgia\, and the joy of sharing fandom together. \nNo pressure. No gatekeeping. Just fans connecting with fans. \n  \nBring your trade boxes\, your shopping bags\, and your inner treasure hunter. \nCome dig\, deal\, and discover – because the best finds are the ones you didn’t know you were looking for. ♻️✨
URL:https://ccs-houston.com/events/ccs-nerd-yard-sale-ii/
CATEGORIES:Action Figure & Toy,Anime,Comic,Video Game
ATTACH;FMTTYPE=image/png:https://ccs-houston.com/wp-content/uploads/2026/02/Event-Launch-Kit-CCS-Nerd-Yard-Sale-II-1.png
END:VEVENT
END:VCALENDAR