BEGIN:VCALENDAR
VERSION:2.0
PRODID:-//CCS Houston - ECPv6.15.20//NONSGML v1.0//EN
CALSCALE:GREGORIAN
METHOD:PUBLISH
X-ORIGINAL-URL:https://ccs-houston.com
X-WR-CALDESC:Events for CCS Houston
REFRESH-INTERVAL;VALUE=DURATION:PT1H
X-Robots-Tag:noindex
X-PUBLISHED-TTL:PT1H
BEGIN:VTIMEZONE
TZID:America/Chicago
BEGIN:DAYLIGHT
TZOFFSETFROM:-0600
TZOFFSETTO:-0500
TZNAME:CDT
DTSTART:20250309T080000
END:DAYLIGHT
BEGIN:STANDARD
TZOFFSETFROM:-0500
TZOFFSETTO:-0600
TZNAME:CST
DTSTART:20251102T070000
END:STANDARD
BEGIN:DAYLIGHT
TZOFFSETFROM:-0600
TZOFFSETTO:-0500
TZNAME:CDT
DTSTART:20260308T080000
END:DAYLIGHT
BEGIN:STANDARD
TZOFFSETFROM:-0500
TZOFFSETTO:-0600
TZNAME:CST
DTSTART:20261101T070000
END:STANDARD
BEGIN:DAYLIGHT
TZOFFSETFROM:-0600
TZOFFSETTO:-0500
TZNAME:CDT
DTSTART:20270314T080000
END:DAYLIGHT
BEGIN:STANDARD
TZOFFSETFROM:-0500
TZOFFSETTO:-0600
TZNAME:CST
DTSTART:20271107T070000
END:STANDARD
END:VTIMEZONE
BEGIN:VEVENT
DTSTART;TZID=America/Chicago:20260605T150000
DTEND;TZID=America/Chicago:20260607T170000
DTSTAMP:20260423T093205
CREATED:20260317T185130Z
LAST-MODIFIED:20260317T185130Z
UID:60742-1780671600-1780851600@ccs-houston.com
SUMMARY:Houston TCG Con VIII
DESCRIPTION:🔥 HOUSTON TCG CON VIII – NOW 3 FULL DAYS! 🔥\nHouston… the hobby keeps growing – and so are we! \nAfter seven incredible Houston TCG Cons filled with packed aisles\, and collectors traveling in from across Texas and east coast\, the community asked for more time. \nSo this summer\, Houston TCG Con VIII expands to THREE FULL DAYS! \nWhether you’re hunting for a grail\, building your next tournament deck\, or introducing the next generation to their first binder\, Houston TCG Con is where the community comes together. \n  \n📅 June 5\, 6\, 7\, 2026 | 10AM – 5PM \n📍 9700 Bissonnet St\, Unit 1500\, Houston\, TX 77036 \n🎟️ FREE Entry & FREE Parking! \n\n🔥 Event Highlights 🔥\n  \n🃏 TCG Collector’s Hub! \n100+ vendors from across Texas to the East Coast packing the room with sealed heat\, graded singles\, booster packs\, and Japanese imports from Pokémon\, Magic: The Gathering\, Yu-Gi-Oh!\, One Piece\, Lorcana\, and more. Expect tables worth digging through all day. \n  \n⚡Buy\, Sell & Trade \nBring your binders\, meet fellow fans\, and enjoy a full weekend of browsing\, trading\, and talking cards with people who love the hobby. \n  \n⚡ Engage\, Exchange\, Elevate \nGood cards. Good conversations. A space where collectors can slow down\, trade stories\, and enjoy being part of the community. \n  \n💼 Vendors – Claim Your Spot! \nApply here 👉🏻 https://tinyurl.com/HoustonTCGCon \nThis is your chance to connect with passionate Texas TCG Community! \n  \n🏨 Special Hotel Deals \nEnjoy a special rate of $79/night — 2 Queens at TownePlace Suites\, only 15 minutes distance from the action! \nBook your stay 👉 Here \n  \nBring your binders\, bring your crew\, and bring the trading energy — let’s make it a great weekend together.🔥
URL:https://ccs-houston.com/events/houston-tcg-con-viii/
CATEGORIES:Trading Card Game
ATTACH;FMTTYPE=image/png:https://ccs-houston.com/wp-content/uploads/2026/03/HTX-Event-Launch-Kit-TCG-Con-VIII.png
END:VEVENT
END:VCALENDAR