BEGIN:VCALENDAR
VERSION:2.0
PRODID:-//CCS Houston - ECPv6.15.20//NONSGML v1.0//EN
CALSCALE:GREGORIAN
METHOD:PUBLISH
X-ORIGINAL-URL:https://ccs-houston.com
X-WR-CALDESC:Events for CCS Houston
REFRESH-INTERVAL;VALUE=DURATION:PT1H
X-Robots-Tag:noindex
X-PUBLISHED-TTL:PT1H
BEGIN:VTIMEZONE
TZID:America/Chicago
BEGIN:DAYLIGHT
TZOFFSETFROM:-0600
TZOFFSETTO:-0500
TZNAME:CDT
DTSTART:20250309T080000
END:DAYLIGHT
BEGIN:STANDARD
TZOFFSETFROM:-0500
TZOFFSETTO:-0600
TZNAME:CST
DTSTART:20251102T070000
END:STANDARD
BEGIN:DAYLIGHT
TZOFFSETFROM:-0600
TZOFFSETTO:-0500
TZNAME:CDT
DTSTART:20260308T080000
END:DAYLIGHT
BEGIN:STANDARD
TZOFFSETFROM:-0500
TZOFFSETTO:-0600
TZNAME:CST
DTSTART:20261101T070000
END:STANDARD
BEGIN:DAYLIGHT
TZOFFSETFROM:-0600
TZOFFSETTO:-0500
TZNAME:CDT
DTSTART:20270314T080000
END:DAYLIGHT
BEGIN:STANDARD
TZOFFSETFROM:-0500
TZOFFSETTO:-0600
TZNAME:CST
DTSTART:20271107T070000
END:STANDARD
END:VTIMEZONE
BEGIN:VEVENT
DTSTART;TZID=America/Chicago:20260410T150000
DTEND;TZID=America/Chicago:20260412T170000
DTSTAMP:20260423T065239
CREATED:20260310T155042Z
LAST-MODIFIED:20260311T124826Z
UID:58838-1775833200-1776013200@ccs-houston.com
SUMMARY:Houston TCG Con VI
DESCRIPTION:🔥 HOUSTON TCG CON VI – Your Weekend Collector Hangout! 🔥 \n🎴 Three days • FREE entry • 100+ vendors • nonstop trades! \nHouston… we’re back for TCG Con VI\, and the Houston collector community keeps getting stronger every round. This isn’t just a card show… it’s a collector hangout where people come to shop\, trade\, meet up\, and have fun in the hobby together. \nFrom vintage grails to modern meta staples\, from slabbed legends to fresh pulls straight out the pack\, this is the battlefield where collectors sharpen their trades and build championship-level collections. Pokémon. Yu-Gi-Oh!. One Piece. Lorcana. Magic: The Gathering. If it’s cardboard royalty\, it’s here. 🌟🃏🤝🔥 \n  \n📅 Date & Time: Friday Apr 10 | 3PM–10PM – Saturday & Sunday Apr 11 & 12 | 10PM–5PM \n📍 Location: 9700 Bissonnet St\, #1500\, Houston\, TX 77036 \n🎟️ FREE Entry & FREE Parking! \n  \n🃏 100+ TCG Vendors \nShop from 100+ vendors traveling from across Texas and beyond. Find sealed products\, graded slabs\, booster boxes\, rare singles\, and Japanese imports from top titles including Pokémon\, Magic: The Gathering\, Yu-Gi-Oh!\, One Piece\, Lorcana\, and more. \n  \n🤝 Trade Together\, Grow Together \nBring your binders and make it a family trade session. Help your kids learn card values\, strategy\, and sportsmanship while connecting with a welcoming community of fellow collectors. \n  \n💬 Community First \nHouston TCG Con VI is built on shared memories – the excitement of a big pull\, the thrill of a fair trade\, and the joy of bonding over a hobby that never goes out of style. Come make memories\, grow collections\, and celebrate the hobby we all love together!❤️ \n  \n💼 Vendors – Claim Your Spot! \nApply here 👉🏻 https://tinyurl.com/HoustonTCGCon \nThis is your chance to connect with passionate Texas TCG Community! \n  \n🏨 Exclusive Hotel Accommodation \nThinking of traveling to Houston for our show? We’ve reserved a special hotel deals just for you: $79/night rate at TownePlace Suites – just 15 minutes away. \n🔗 Book your stay: Here \n \n  \nThis is where the deals get louder\, the pulls get crazier\, and the community shows up in full force. We’re turning the tables up and setting the stage for a weekend packed with big trades\, rare finds\, and nonstop hype. Let’s make this the largest\, loudest\, most legendary TCG weekend Houston has ever witnessed. 🔥📚🃏
URL:https://ccs-houston.com/events/houston-tcg-con-vi/
CATEGORIES:Trading Card Game
ATTACH;FMTTYPE=image/png:https://ccs-houston.com/wp-content/uploads/2026/03/HTX-TCG-Con-VI-Event-Launch-Kit-1.png
END:VEVENT
END:VCALENDAR