BEGIN:VCALENDAR
VERSION:2.0
PRODID:-//CCS Houston - ECPv6.15.20//NONSGML v1.0//EN
CALSCALE:GREGORIAN
METHOD:PUBLISH
X-WR-CALNAME:CCS Houston
X-ORIGINAL-URL:https://ccs-houston.com
X-WR-CALDESC:Events for CCS Houston
REFRESH-INTERVAL;VALUE=DURATION:PT1H
X-Robots-Tag:noindex
X-PUBLISHED-TTL:PT1H
BEGIN:VTIMEZONE
TZID:America/New_York
BEGIN:DAYLIGHT
TZOFFSETFROM:-0500
TZOFFSETTO:-0400
TZNAME:EDT
DTSTART:20250309T070000
END:DAYLIGHT
BEGIN:STANDARD
TZOFFSETFROM:-0400
TZOFFSETTO:-0500
TZNAME:EST
DTSTART:20251102T060000
END:STANDARD
BEGIN:DAYLIGHT
TZOFFSETFROM:-0500
TZOFFSETTO:-0400
TZNAME:EDT
DTSTART:20260308T070000
END:DAYLIGHT
BEGIN:STANDARD
TZOFFSETFROM:-0400
TZOFFSETTO:-0500
TZNAME:EST
DTSTART:20261101T060000
END:STANDARD
BEGIN:DAYLIGHT
TZOFFSETFROM:-0500
TZOFFSETTO:-0400
TZNAME:EDT
DTSTART:20270314T070000
END:DAYLIGHT
BEGIN:STANDARD
TZOFFSETFROM:-0400
TZOFFSETTO:-0500
TZNAME:EST
DTSTART:20271107T060000
END:STANDARD
END:VTIMEZONE
BEGIN:VTIMEZONE
TZID:America/Chicago
BEGIN:DAYLIGHT
TZOFFSETFROM:-0600
TZOFFSETTO:-0500
TZNAME:CDT
DTSTART:20250309T080000
END:DAYLIGHT
BEGIN:STANDARD
TZOFFSETFROM:-0500
TZOFFSETTO:-0600
TZNAME:CST
DTSTART:20251102T070000
END:STANDARD
BEGIN:DAYLIGHT
TZOFFSETFROM:-0600
TZOFFSETTO:-0500
TZNAME:CDT
DTSTART:20260308T080000
END:DAYLIGHT
BEGIN:STANDARD
TZOFFSETFROM:-0500
TZOFFSETTO:-0600
TZNAME:CST
DTSTART:20261101T070000
END:STANDARD
BEGIN:DAYLIGHT
TZOFFSETFROM:-0600
TZOFFSETTO:-0500
TZNAME:CDT
DTSTART:20270314T080000
END:DAYLIGHT
BEGIN:STANDARD
TZOFFSETFROM:-0500
TZOFFSETTO:-0600
TZNAME:CST
DTSTART:20271107T070000
END:STANDARD
END:VTIMEZONE
BEGIN:VEVENT
DTSTART;TZID=America/New_York:20260425T090000
DTEND;TZID=America/New_York:20260426T170000
DTSTAMP:20260423T051938
CREATED:20260108T003413Z
LAST-MODIFIED:20260331T185943Z
UID:41288-1777107600-1777222800@ccs-houston.com
SUMMARY:CCS $20\,000 cEDH Invitational Qualifier #2
DESCRIPTION:🏆 CCS $20\,000 cEDH Invitational Qualifier #2 🏆\nCompetitive Commander players — your next major stop is here. \nQualifier #2 of the CCS $50\,000 cEDH Invitational Series brings another chance to earn leaderboard points\, secure your invite\, and battle for a guaranteed $20\,000 prize pool. \nFull Details → https://topdeck.gg/event/ccs-50000-cedh-invitational \n  \n🗓 Dates: April 25–26\, 2026 \n📍 Location: Charlie’s Collectible Show\, 9700 Bissonett St Unit 1500\, Houston\, TX 77036 \n\nTournament Details:\n\n🎟️ Entry Fee: $90 before Apr 11\, $110 After\n🔗 Register Now! 👉  https://topdeck.gg/event/css-20000-cedh-invitational-qualifier-2\n\n\n🗂️ Format & Structure\n\nFormat: cEDH (Proxy Friendly)\nSaturday: 6 Swiss Rounds\nSunday: 2 Swiss Rounds → Top 16\n\n  \n🚫 Proxy Requirements: \n\nFull card name\, mana cost\, type line\, and effect text\nTest cards or clearly written MDFCs allowed\nNo paper slip-ins permitted\n\n\n💰 Guaranteed $20\,000 Prize Pool\n\n1st — $5\,000 + Auto Invite + TopDeck Invite + 200 pts\n2nd-4th — $2\,000 each + Auto Invite + 160 pts\n5th–8th — $550 + 120 pts\n9th–16th — $550 + 100 pts\n17th–32nd — $175 + 75 pts\n33rd–48th — 60 pts\n49th–64th — 45 pts\n65th–96th — 30 pts\n97th–128th — 20 pts\n\nEvent Schedule:\n🕔 Registration Opens: 9 AM \n🕔 Player Meeting (Day 1): 10 AM \n🕔 Day 2 Start Time: 10 AM \n\n🛍️ Collectible Marketplace\nBetween rounds\, enjoy access to a curated marketplace featuring: \n\nTCG singles\, sealed\, and accessories\nRetro video games & consoles\nAnime merch\, figures\, and models\nToys and other hobby collectibles\n\nPerfect for grabbing upgrades\, browsing grails\, or just hanging out between matches. \n\n🏨 Special Hotel Deals\nEnjoy a special rate of $79/night — 2 Queens at TownePlace Suites\, only 15 minutes distance from the action! \nBook your stay: Here \n\n🔔 IMPORTANT REMINDERS\n\nPlayer names will appear as real names on published documents.\nTop 16 decklists will be published.\n\n⚔️🔥Points. Cash. Invites. Prestige. \nShow up ready — leave with momentum. Your path to the $50K Invitational continues at CCS cEDH Qualifier #2!
URL:https://ccs-houston.com/events/ccs-20000-cedh-invitational-qualifier-2/
CATEGORIES:Trading Card Game
ATTACH;FMTTYPE=image/png:https://ccs-houston.com/wp-content/uploads/2026/01/Event-Launchkit-20000-cEDH-Invitational-Qualifier-2-2.png
END:VEVENT
BEGIN:VEVENT
DTSTART;TZID=America/Chicago:20260501T150000
DTEND;TZID=America/Chicago:20260503T170000
DTSTAMP:20260423T051938
CREATED:20260318T122051Z
LAST-MODIFIED:20260420T165735Z
UID:60821-1777647600-1777827600@ccs-houston.com
SUMMARY:Houston TCG Con VII
DESCRIPTION:🔥 HOUSTON TCG CON VII – Bigger Weekend. More Trades. Same Community. 🔥 \n🎴 Three days • FREE entry • 100+ vendors • nonstop trades! \nHouston… it’s time to run it back — bigger than ever. TCG Con VII is now a 3-day event\, giving collectors more time to dig\, trade\, and discover cards across every table. \nFrom Pokémon to Magic\, Yu-Gi-Oh! to One Piece — every binder has a story\, and every table has something worth finding. \n  \n📅 Date: May 1\, 2 & 3 \n⏳ Time: Friday: 3PM – 10PM\, Saturday & Sunday: 10AM – 5PM \n📍 Location: 9700 Bissonnet St\, #1500\, Houston\, TX 77036 \n🎟️ FREE Entry & FREE Parking! \n  \n🃏 100+ TCG Vendors – Absolute Heat Wall to Wall \nShop from 100+ vendors traveling from across Texas and beyond. Find sealed products\, graded slabs\, booster boxes\, rare singles\, and Japanese imports from top titles including Pokémon\, Magic: The Gathering\, Yu-Gi-Oh!\, One Piece\, Lorcana\, and more. \n  \n⚡ Buy • Sell • Trade – All Weekend Long \nBring your binders\, make the deals you’ve been waiting for\, and connect with collectors. This is where grails change hands and collections level up. \n  \n⚡ Built by the Community for the Community \nMore than a convention – Houston TCG Con V is a space to connect\, collaborate\, and grow Houston’s TCG scene together. New faces\, familiar vibes\, and nonstop energy all weekend. \n  \n💼 Vendors – Claim Your Spot! \nApply here 👉🏻 https://tinyurl.com/HoustonTCGCon \nThis is your chance to connect with passionate Texas TCG Community! \n  \n🏨 Exclusive Hotel Accommodation \nThinking of traveling to Houston for our show? We’ve reserved a special hotel deals just for you: $79/night rate at TownePlace Suites – just 15 minutes away. 🔗 Book your stay: Here \n  \nHouston TCG community… this is what we built together. ❤️🤝 \nCollectors\, vendors\, trades\, and memories — all in one place. \nLet’s run it back for TCG Con VII – now a full 3-day weekend. 🔥
URL:https://ccs-houston.com/events/houston-tcg-con-vii/
CATEGORIES:Trading Card Game
ATTACH;FMTTYPE=image/png:https://ccs-houston.com/wp-content/uploads/2026/03/HTX-Banner-IG-Reel-TCG-Con-VII.png
END:VEVENT
BEGIN:VEVENT
DTSTART;TZID=America/New_York:20260530T090000
DTEND;TZID=America/New_York:20260531T170000
DTSTAMP:20260423T051938
CREATED:20251219T184017Z
LAST-MODIFIED:20260311T130044Z
UID:39842-1780131600-1780246800@ccs-houston.com
SUMMARY:CCS Lorcana $25\,000 Weekend - Invitational Qualifier 4
DESCRIPTION:🏆 Final $25\,000 Lorcana Qualifier at CCS! 🏆\nThis is it — the last chance to qualify for the big one! We’re closing out the season with another $25\,000 GUARANTEED Lorcana Tournament\, and it’s all happening at CCS. If you’re aiming for the $50K Invite-Only Finals in Summer 2026\, now’s the time to make your move. Wanna know how to lock in your spot? 👉 Click here. \n  \n🗓 Dates: May 30-31\, 2026 \n📍 Location: 9700 Bissonnet St\, #1500 Houston\, TX 77036 \n  \nTournament Details: \n\n🗂️ Format: Core Constructed\n🎟️ Entry Fee: $75 before May 1 and $100 after\nRegister Now! 👉  https://melee.gg/Tournament/View/340494\n\n  \nStructure: \n\n🕔 Day 1 (Saturday) – 8 rounds of Swiss (Best of 3)\n🕔 Day 2 (Sunday) – 2 rounds of Swiss (Best of 3\, based on attendance)\n🕔 After Swiss rounds\, Top 16 single elimination playoff\n\n  \nPrize Pool and Invitational Qualifier Points: \n💰 Guaranteed $25\,000 Prize Pool \n\n1st Place: $7000 + 100 Points + Invite $50k\n2nd Place: $3\,500 + 80 Points + Invite $50k\n3rd-4th: $2\,000 + 65 Points + Invite $50k\n5th-8th: $1\,000 + 50 Points + Invite $50k\n9th-16th: $375 + 35 Points\n17th-32nd: $225 + 20 Points\n33rd-64th: 10 Points\n65th-128th: 5 Points\n\n  \nEvent Schedule: \n🕔 Registration Opens: 9 AM \n🕔 Player Meeting (Day 1): 10 AM \n🕔 Day 2 Start Time: 9 AM \n  \n💎 SPECIAL EVENTS \n👑 Lorcana Ladies Championship $1\,000 👑 – Sunday May 31 @ 12PM ($25 Entry) – Calling all lady Illumineers! A special championship where you can battle for glory and prizes. 👉 Register Now! \n🌟 Rising Stars $500 Scholarship Tournament 🌟 – Sunday May 31 @ 10AM (FREE Entry\, Ages 16 & Under) – The next generation of Illumineers take the stage! Win prizes & get noticed 👉 Register Now! \n💰 Sunday $5\,000 Event 💰 – May 31 @ 12 PM ($50 Entry) \nAnother high-stakes showdown for those ready to test their skills! 👉 Register Now! \n  \n🎲 SIDE EVENTS (All Weekend Long!) \nOn-demand Tournaments all weekend long and rack up Prize Wall Tickets!! \n🔹 4-Player Core Constructed – $20 Entry | Winner: 14 Prize Wall Tickets \n🔹 6-Pack Sealed Deck – $45 Entry | Winner: 12 Prize Wall Tickets \n🔹 2-Player Pack Rush – $15 Entry | Winner: 2 Prize Wall Tickets \n\n🛍️ Collectible Marketplace\nBetween rounds\, enjoy access to a curated marketplace featuring: \n\nTCG singles\, sealed\, and accessories\nRetro video games & consoles\nAnime merch\, figures\, and models\nToys and other hobby collectibles\n\nPerfect for grabbing upgrades\, browsing grails\, or just hanging out between matches. \n\n🏨 Special Hotel Deals\nEnjoy a special rate of $79/night — 2 Queens at TownePlace Suites\, only 15 minutes distance from the action! \nBook your stay 👉🏻 Here \n  \n🔔 IMPORTANT REMINDERS: \n\nPlayer names on tournament documents will reflect real names if printed.\nTop 16 decklists will be published!\n\n  \n🎟 Come hang for one more unforgettable weekend! Whether you’re pushing for top 8\, trading your grails\, or just kicking it with the community — don’t miss the final $25K showdown. \nLet’s make it a weekend to remember at CCS Lorcana Qualifier #4! 🎉 \n📢 Just a heads-up: Tournament printouts (like standings & pairings) will show your real name — not your display name. Only applies to paper materials!
URL:https://ccs-houston.com/events/ccs-lorcana-25000-weekend-invitational-qualifier-4/
CATEGORIES:Trading Card Game
ATTACH;FMTTYPE=image/png:https://ccs-houston.com/wp-content/uploads/2025/12/Event-Launch-Kits-HOUSTON-CCS-Lorcana-25000-Weekend-Invitational-Qualifier-4.png
END:VEVENT
BEGIN:VEVENT
DTSTART;TZID=America/Chicago:20260605T150000
DTEND;TZID=America/Chicago:20260607T170000
DTSTAMP:20260423T051938
CREATED:20260317T185130Z
LAST-MODIFIED:20260317T185130Z
UID:60742-1780671600-1780851600@ccs-houston.com
SUMMARY:Houston TCG Con VIII
DESCRIPTION:🔥 HOUSTON TCG CON VIII – NOW 3 FULL DAYS! 🔥\nHouston… the hobby keeps growing – and so are we! \nAfter seven incredible Houston TCG Cons filled with packed aisles\, and collectors traveling in from across Texas and east coast\, the community asked for more time. \nSo this summer\, Houston TCG Con VIII expands to THREE FULL DAYS! \nWhether you’re hunting for a grail\, building your next tournament deck\, or introducing the next generation to their first binder\, Houston TCG Con is where the community comes together. \n  \n📅 June 5\, 6\, 7\, 2026 | 10AM – 5PM \n📍 9700 Bissonnet St\, Unit 1500\, Houston\, TX 77036 \n🎟️ FREE Entry & FREE Parking! \n\n🔥 Event Highlights 🔥\n  \n🃏 TCG Collector’s Hub! \n100+ vendors from across Texas to the East Coast packing the room with sealed heat\, graded singles\, booster packs\, and Japanese imports from Pokémon\, Magic: The Gathering\, Yu-Gi-Oh!\, One Piece\, Lorcana\, and more. Expect tables worth digging through all day. \n  \n⚡Buy\, Sell & Trade \nBring your binders\, meet fellow fans\, and enjoy a full weekend of browsing\, trading\, and talking cards with people who love the hobby. \n  \n⚡ Engage\, Exchange\, Elevate \nGood cards. Good conversations. A space where collectors can slow down\, trade stories\, and enjoy being part of the community. \n  \n💼 Vendors – Claim Your Spot! \nApply here 👉🏻 https://tinyurl.com/HoustonTCGCon \nThis is your chance to connect with passionate Texas TCG Community! \n  \n🏨 Special Hotel Deals \nEnjoy a special rate of $79/night — 2 Queens at TownePlace Suites\, only 15 minutes distance from the action! \nBook your stay 👉 Here \n  \nBring your binders\, bring your crew\, and bring the trading energy — let’s make it a great weekend together.🔥
URL:https://ccs-houston.com/events/houston-tcg-con-viii/
CATEGORIES:Trading Card Game
ATTACH;FMTTYPE=image/png:https://ccs-houston.com/wp-content/uploads/2026/03/HTX-Event-Launch-Kit-TCG-Con-VIII.png
END:VEVENT
BEGIN:VEVENT
DTSTART;TZID=America/Chicago:20260703T100000
DTEND;TZID=America/Chicago:20260705T170000
DTSTAMP:20260423T051938
CREATED:20260421T143501Z
LAST-MODIFIED:20260421T143501Z
UID:70255-1783072800-1783270800@ccs-houston.com
SUMMARY:Houston TCG Con IX
DESCRIPTION:Houston TCG Con IX — Your Favorite TCG Weekend in Texas \nThree days. 100+ vendors. Every game that matters. Houston TCG Con IX is back — and the Texas TCG community keeps showing up stronger every round! \nPokémon. Yu-Gi-Oh!. Magic: The Gathering. One Piece. Lorcana. Riftbound. Dragon Ball Super. Digimon. Flesh and Blood. If it’s cardboard worth chasing\, it’s on this floor. \n  \n📅 Date: Friday–Sunday\, July 3–5\, 2026 \n⏰ Time: Friday: 3PM – 10PM | Saturday: 10AM – 6PM | Sunday: 10AM – 5PM \n📍 Location: 9700 Bissonnet St\, Unit 1500\, Houston\, TX 77036 \n🎟️ FREE Entry + FREE Parking \n  \n🔥 Event Highlights 🔥 \n🃏 100+ TCG Vendors — Three Days of Cardboard Shop from 100+ vendors traveling from across Texas and beyond. Find singles\, sealed product\, booster boxes\, graded slabs\, Japanese imports\, and rare inserts across every major title — Pokémon\, MTG\, Yu-Gi-Oh!\, One Piece\, Lorcana\, Riftbound\, Dragon Ball Super\, Digimon\, Flesh and Blood\, and more. Come with a wantlist. Leave with something you weren’t expecting. \n  \n🤝 The Trade Floor Is Open Bring your binders\, your bulk\, your trade bait\, and your spec pulls. Houston TCG Con is a trade-friendly floor — deals happen naturally here because the people at the tables are collectors first. Three days means three days of opportunities to find the trade that makes your collection. \n  \n💸 Deals Across Every Budget From budget bulk and bargain boxes to high-end slabs and competitive singles — the floor has range. Whether you’re spec buying\, PC hunting\, or just looking to flip smart\, TCG Con IX has the inventory to make it happen. \n  \n💼 Vendor Space Available Table space is open for TCG and collectibles vendors. Come connect with the Texas TCG community. 👉 Apply here: https://forms.gle/KFdA1u3pKRAvNtzJ9 \n  \n🏨 Traveling to Houston? Lock In Your Rate We’ve secured a special hotel rate exclusively for TCG Con IX attendees. Book your stay and make it a full weekend. 👉 Book here \n  \nThree days. One floor. The best TCG weekend in Texas. Houston TCG Con IX — July 3–5.
URL:https://ccs-houston.com/events/houston-tcg-con-ix/
CATEGORIES:Trading Card Game
ATTACH;FMTTYPE=image/png:https://ccs-houston.com/wp-content/uploads/2026/04/HTX-Banner-IG-Reel-TCG-Con-IX.png
END:VEVENT
BEGIN:VEVENT
DTSTART;TZID=America/New_York:20261106T100000
DTEND;TZID=America/New_York:20261108T170000
DTSTAMP:20260423T051938
CREATED:20251203T152754Z
LAST-MODIFIED:20260119T164143Z
UID:38034-1793959200-1794157200@ccs-houston.com
SUMMARY:CCS $50\,000 Riftbound Invitational
DESCRIPTION:CCS $50\,000 Riftbound Invitational – 2026 Series Overview\nThe CCS $50\,000 Riftbound Invitational is a year-long competitive circuit for Riftbound players. \nThe season concludes on November 6–8\, 2026 in Houston\, Texas\, with a $50\,000 Invite-Only Championship featuring 128 of the best players in the game. \nGo to the Topdeck Invitational Page \n\nHow to Qualify for the $50\,000 Invitational\n3 Ways to Qualify (128 Total Spots)\n1. Auto-Qualify – Top 8 from each $25K Main Event (6 events) \nTotal Spots: 48 \n2. Points Leaderboard – Top performers across all events \nTotal Spots: 64 \n3. LCQ Winners – Winner of each Last Chance Qualifier (16 events) \nTotal Spots: 16 \nIf a player qualifies through multiple methods\, leaderboard spots roll down to the next eligible player. \n\nBonus for the Most Consistent Players\nThe Top 8 players on the final Points Leaderboard earn a Round 1 Bye at the Invitational. \n\nMain Qualifier Weekends – Structure & Prizes\nEach of the 6 qualifier weekends includes: \nSaturday – $25\,000 Main Event\n\nFormat: Standard\nSwiss + Top Cut\nTop 8 auto-qualify\nTop 128 placements earn leaderboard points\n\nSunday – $5\,000 Side Event\n\nOne-day event\nTop 8 earn 30 leaderboard points\nNo auto-invite\n\n\nLeaderboard Points System\nSaturday $25K Main Events (Top 128 Earn Points)\n1st — 100 \n2nd — 80 \n3rd–4th — 65 \n5th–8th — 50 \n9th–16th — 35 \n17th–32nd — 20 \n33rd–64th — 10 \n65th–128th — 5 \nTotal Points per Main Event: 1\,750 \nTotal Across All 6: 10\,500 \nSunday $5K Side Events — Points\nTop 8 — 30 points each \n\nLast Chance Qualifiers (LCQs)\n\n16 total events\nWinner of each LCQ earns an automatic invite\nOpen entry — no prior points required\n\n\nMain Qualifier Tournament Weekends\n(All 6 Events + Signup Links) \nQualifier Weekend 1\nJanuary 31 – February 1\, 2026 \n📍 Houston\, Texas \nSignup: https://topdeck.gg/event/25000-houston-invitational-qualifier-1 \nQualifier Weekend 2\nMarch 14–15\, 2026 \n📍 Houston\, Texas \nSignup: https://topdeck.gg/event/25000-houston-invitational-qualifier-2 \nQualifier Weekend 3\nMay 23–24\, 2026 \n📍 Atlanta\, Georgia \nSignup: https://topdeck.gg/event/25000-houston-invitational-qualifier-3 \nQualifier Weekend 4\nJuly 11–12\, 2026 \n📍 Atlanta\, Georgia \nSignup: https://topdeck.gg/event/25000-atlanta-invitational-qualifier-4 \nQualifier Weekend 5\nSeptember 19–20\, 2026 \n📍 Houston\, Texas \nSignup: https://topdeck.gg/event/25000-houston-invitational-qualifier-5 \nQualifier Weekend 6\nOctober 10-11\, 2026 \n📍 Atlanta\, Georgia \nSignup: https://topdeck.gg/event/25000-atlanta-invitational-qualifier-6 \n\nCCS $50\,000 Riftbound Invitational Championship Weekend\nNovember 6–8\, 2026 \n📍 Houston\, Texas \n128 players compete for $50\,000 and the title of CCS Riftbound Champion.
URL:https://ccs-houston.com/events/ccs-50000-riftbound-invitational/
CATEGORIES:Trading Card Game
ATTACH;FMTTYPE=image/png:https://ccs-houston.com/wp-content/uploads/2025/12/Riftbound-50K-Invitational-Banner-IG-1.png
END:VEVENT
END:VCALENDAR