BEGIN:VCALENDAR
VERSION:2.0
PRODID:-//CCS Houston - ECPv6.15.20//NONSGML v1.0//EN
CALSCALE:GREGORIAN
METHOD:PUBLISH
X-WR-CALNAME:CCS Houston
X-ORIGINAL-URL:https://ccs-houston.com
X-WR-CALDESC:Events for CCS Houston
REFRESH-INTERVAL;VALUE=DURATION:PT1H
X-Robots-Tag:noindex
X-PUBLISHED-TTL:PT1H
BEGIN:VTIMEZONE
TZID:America/New_York
BEGIN:DAYLIGHT
TZOFFSETFROM:-0500
TZOFFSETTO:-0400
TZNAME:EDT
DTSTART:20250309T070000
END:DAYLIGHT
BEGIN:STANDARD
TZOFFSETFROM:-0400
TZOFFSETTO:-0500
TZNAME:EST
DTSTART:20251102T060000
END:STANDARD
BEGIN:DAYLIGHT
TZOFFSETFROM:-0500
TZOFFSETTO:-0400
TZNAME:EDT
DTSTART:20260308T070000
END:DAYLIGHT
BEGIN:STANDARD
TZOFFSETFROM:-0400
TZOFFSETTO:-0500
TZNAME:EST
DTSTART:20261101T060000
END:STANDARD
BEGIN:DAYLIGHT
TZOFFSETFROM:-0500
TZOFFSETTO:-0400
TZNAME:EDT
DTSTART:20270314T070000
END:DAYLIGHT
BEGIN:STANDARD
TZOFFSETFROM:-0400
TZOFFSETTO:-0500
TZNAME:EST
DTSTART:20271107T060000
END:STANDARD
END:VTIMEZONE
BEGIN:VEVENT
DTSTART;TZID=America/New_York:20260425T090000
DTEND;TZID=America/New_York:20260426T170000
DTSTAMP:20260423T063026
CREATED:20260108T003413Z
LAST-MODIFIED:20260331T185943Z
UID:41288-1777107600-1777222800@ccs-houston.com
SUMMARY:CCS $20\,000 cEDH Invitational Qualifier #2
DESCRIPTION:🏆 CCS $20\,000 cEDH Invitational Qualifier #2 🏆\nCompetitive Commander players — your next major stop is here. \nQualifier #2 of the CCS $50\,000 cEDH Invitational Series brings another chance to earn leaderboard points\, secure your invite\, and battle for a guaranteed $20\,000 prize pool. \nFull Details → https://topdeck.gg/event/ccs-50000-cedh-invitational \n  \n🗓 Dates: April 25–26\, 2026 \n📍 Location: Charlie’s Collectible Show\, 9700 Bissonett St Unit 1500\, Houston\, TX 77036 \n\nTournament Details:\n\n🎟️ Entry Fee: $90 before Apr 11\, $110 After\n🔗 Register Now! 👉  https://topdeck.gg/event/css-20000-cedh-invitational-qualifier-2\n\n\n🗂️ Format & Structure\n\nFormat: cEDH (Proxy Friendly)\nSaturday: 6 Swiss Rounds\nSunday: 2 Swiss Rounds → Top 16\n\n  \n🚫 Proxy Requirements: \n\nFull card name\, mana cost\, type line\, and effect text\nTest cards or clearly written MDFCs allowed\nNo paper slip-ins permitted\n\n\n💰 Guaranteed $20\,000 Prize Pool\n\n1st — $5\,000 + Auto Invite + TopDeck Invite + 200 pts\n2nd-4th — $2\,000 each + Auto Invite + 160 pts\n5th–8th — $550 + 120 pts\n9th–16th — $550 + 100 pts\n17th–32nd — $175 + 75 pts\n33rd–48th — 60 pts\n49th–64th — 45 pts\n65th–96th — 30 pts\n97th–128th — 20 pts\n\nEvent Schedule:\n🕔 Registration Opens: 9 AM \n🕔 Player Meeting (Day 1): 10 AM \n🕔 Day 2 Start Time: 10 AM \n\n🛍️ Collectible Marketplace\nBetween rounds\, enjoy access to a curated marketplace featuring: \n\nTCG singles\, sealed\, and accessories\nRetro video games & consoles\nAnime merch\, figures\, and models\nToys and other hobby collectibles\n\nPerfect for grabbing upgrades\, browsing grails\, or just hanging out between matches. \n\n🏨 Special Hotel Deals\nEnjoy a special rate of $79/night — 2 Queens at TownePlace Suites\, only 15 minutes distance from the action! \nBook your stay: Here \n\n🔔 IMPORTANT REMINDERS\n\nPlayer names will appear as real names on published documents.\nTop 16 decklists will be published.\n\n⚔️🔥Points. Cash. Invites. Prestige. \nShow up ready — leave with momentum. Your path to the $50K Invitational continues at CCS cEDH Qualifier #2!
URL:https://ccs-houston.com/events/ccs-20000-cedh-invitational-qualifier-2/
CATEGORIES:Trading Card Game
ATTACH;FMTTYPE=image/png:https://ccs-houston.com/wp-content/uploads/2026/01/Event-Launchkit-20000-cEDH-Invitational-Qualifier-2-2.png
END:VEVENT
END:VCALENDAR