BEGIN:VCALENDAR
VERSION:2.0
PRODID:-//CCS Houston - ECPv6.15.20//NONSGML v1.0//EN
CALSCALE:GREGORIAN
METHOD:PUBLISH
X-ORIGINAL-URL:https://ccs-houston.com
X-WR-CALDESC:Events for CCS Houston
REFRESH-INTERVAL;VALUE=DURATION:PT1H
X-Robots-Tag:noindex
X-PUBLISHED-TTL:PT1H
BEGIN:VTIMEZONE
TZID:America/Chicago
BEGIN:DAYLIGHT
TZOFFSETFROM:-0600
TZOFFSETTO:-0500
TZNAME:CDT
DTSTART:20250309T080000
END:DAYLIGHT
BEGIN:STANDARD
TZOFFSETFROM:-0500
TZOFFSETTO:-0600
TZNAME:CST
DTSTART:20251102T070000
END:STANDARD
BEGIN:DAYLIGHT
TZOFFSETFROM:-0600
TZOFFSETTO:-0500
TZNAME:CDT
DTSTART:20260308T080000
END:DAYLIGHT
BEGIN:STANDARD
TZOFFSETFROM:-0500
TZOFFSETTO:-0600
TZNAME:CST
DTSTART:20261101T070000
END:STANDARD
BEGIN:DAYLIGHT
TZOFFSETFROM:-0600
TZOFFSETTO:-0500
TZNAME:CDT
DTSTART:20270314T080000
END:DAYLIGHT
BEGIN:STANDARD
TZOFFSETFROM:-0500
TZOFFSETTO:-0600
TZNAME:CST
DTSTART:20271107T070000
END:STANDARD
END:VTIMEZONE
BEGIN:VEVENT
DTSTART;TZID=America/Chicago:20260509T100000
DTEND;TZID=America/Chicago:20260510T170000
DTSTAMP:20260421T183730
CREATED:20260309T122402Z
LAST-MODIFIED:20260413T182247Z
UID:58708-1778320800-1778432400@ccs-houston.com
SUMMARY:Retro Video Game Expo II
DESCRIPTION:🕹️⚡ HOUSTON\, READY TO PRESS START? ⚡🕹️\nGear up for a two-day blast of retro gaming nostalgia – arcades\, free play zones\, classic tournaments\, rare collectibles\, and hands-on old-school fun! Whether you’re smashing buttons on vintage hardware\, hunting down holy-grail cartridges\, or battling it out in Smash\, this expo is your Player 1 moment! \n  \n🗓️ Date & Time: May 9–10\, 2026 | 10AM–5PM \n📍 Location: 9700 Bissonnet St #1500\, Houston\, TX 77036 \n💥 FREE ENTRY. FREE PARKING. FREE PLAY. \n  \n🎮 Retro Gaming Experience\n🎮 Retro Video Game Marketplace – All Weekend \nStep into a collector’s paradise. Vendors from across the region are bringing vintage consoles\, original cartridges\, imports\, manuals\, accessories\, and hard-to-find titles. Whether you’re hunting for childhood favorites or chasing elite grails\, this is where treasures respawn. \n🚨 Want to vend? Sign up here 👉 https://tinyurl.com/HoustonVendors \n  \n🎮 Free-Play Zone – ALL Day \nJump on 80’s Arcades & Classic Consoles and relive the games that made gaming legendary. More setups and activities to be announced soon! \n  \n🕹️ High Five Gaming Free Play – Both Days | 11AM–5PM \nHigh Five Gaming provides all consoles for free play all day featuring: Mario Kart\, Smash Bros\, Kirby Air Riders\, Dragon Ball Z\, Sonic the Fighters\, Guitar Hero 3\, Soul Calibur 2 and so many more! With free tournaments and prizes for everyone who competes\, it’s an unmissable chance to show off your skills! \n  \n🏁 Saturday Crush | 11AM–3PM \nEverything 1v1: 11AM: Godzilla Destroy All Monsters Melee\, 1PM: Super Smash Bros Melee\, 3PM: Sonic The Fighters. ✨ Hosted by High Five Gaming \n  \n🏆 Double Sunday | 11AM–3PM \nEverything 2v2: 1AM: Naruto Clash of Ninja Revolution 2 Teams\, 1PM: Super Smash Bros Brawl Teams\, 3PM: Mario Kart Double Dash Teams. ✨ Hosted by High Five Gaming \n  \n🤝 Calling All Collaborators & Retro Communities\nThis event is built with the community for community! We’re actively looking to partner with: \n🏁 Tournament organizers → https://forms.gle/74Qvuv9PFzeDVF1V8 \n🕹️ Pinball/Arcade Hosts → https://forms.gle/74Qvuv9PFzeDVF1V8 \n🎤 Workshops & Panels → https://forms.gle/q2nCKsZ6FEVZBgqW9 \n🙌 Volunteer Sign-Up → https://forms.gle/15zMGTqZPSGKjGdy6 \n🎮 Vendor Applications → https://tinyurl.com/CCSGuestVendorFromHouston \nIf you’ve ever wanted to be part of event\, bring your passion! Let’s chat! 📩 \n  \n🚨 Stay tuned — more games\, tournaments\, and surprises coming soon! \n  \n🏨 Special Hotel Deals \nEnjoy a special rate of $79/night — ****2 Queens at TownePlace Suites\, only 15 minutes distance from the action! \nBook your stay 👉🏻 https://tinyurl.com/CCSHoustonHotel \n  \nBring your crew\, grab a controller\, and let’s relive the golden age of gaming together. 👾✨
URL:https://ccs-houston.com/events/retro-video-game-expo-ii/
CATEGORIES:Video Game
ATTACH;FMTTYPE=image/png:https://ccs-houston.com/wp-content/uploads/2026/03/Event-Launch-Kit-Retro-Video-Game-Expo-II-HTX.png
END:VEVENT
BEGIN:VEVENT
DTSTART;TZID=America/Chicago:20260718T100000
DTEND;TZID=America/Chicago:20260719T170000
DTSTAMP:20260421T183730
CREATED:20260421T174042Z
LAST-MODIFIED:20260421T174042Z
UID:70279-1784368800-1784480400@ccs-houston.com
SUMMARY:CCS Nerd Yard Sale III
DESCRIPTION:CCS Houston Nerd Yard Sale III — Dig In. Deal Out. Pass It On.\nGot shelves full of stuff that deserves a new home? Looking to score fan-loved finds at yard-sale prices? CCS Houston Nerd Yard Sale III is back for a full weekend — two days of clearing\, digging\, dealing\, and connecting with fellow fans across every fandom and era. \nThis isn’t a convention. It’s not a vendor hall. It’s a true community yard sale where real collectors clear their collections\, real deals get made\, and real conversations happen over shared fandoms. \n  \n📅 Date: Saturday–Sunday\, July 18–19\, 2026 \n⏰ Time: Saturday: 10AM – 6PM | Sunday: 10AM – 5PM \n📍 Location: 9700 Bissonnet St\, Unit 1500\, Houston\, TX 77036 \n🎟️ FREE Entry + FREE Parking \n  \n🔥 Event Highlights 🔥 \n🧺 For Sellers — Clear Your Shelves\, Make Some Cash Got boxes of fandom stuff ready to move? Duplicates\, impulse buys\, collections you’ve outgrown? Set up a table\, meet fellow fans\, and pass your collection on to someone who’ll love it just as much as you did. Perfect for collectors downsizing\, families clearing closets\, and anyone who needs to make space. 👉 Apply to be a seller \n  \n🔍 For Shoppers — Dig\, Deal\, Discover Bargain hunters\, this floor is yours. Browse tables packed with fan-loved finds at yard-sale prices across every fandom and era. You never know what you’ll find — but here’s what might be waiting: \n\n📚 Comics\, manga\, and books\n🎮 Retro games and consoles — NES\, SNES\, Sega\, PlayStation classics\, and more\n🧸 Plushies\, pins\, keychains\, and gacha\n🧩 Anime merch\, figures\, and Funkos\n📼 VHS\, vintage media\, and old-school collectibles\n👕 Fandom fashion and accessories\n🃏 Cards\, toys\, and unexpected gems\n\nPrices are yard-sale friendly. Every table is different. The best finds are the ones you didn’t know you were looking for. \n  \n👨‍👩‍👧‍👦 All Fandoms. All Ages. Zero Gatekeeping. Bring the whole crew. No pressure. No gatekeeping. Just fans connecting with fans over the things they love. \n  \n🏨 Traveling to Houston? Lock In Your Rate We’ve secured a special hotel rate exclusively for Nerd Yard Sale III attendees. Book your stay and make it a full weekend. 👉 Book here \n  \nBring your trade boxes. Bring your shopping bags. Bring your inner treasure hunter. CCS Houston Nerd Yard Sale III — July 18 & 19.
URL:https://ccs-houston.com/events/ccs-nerd-yard-sale-iii/
CATEGORIES:Action Figure & Toy,Anime,Comic,Video Game
ATTACH;FMTTYPE=image/jpeg:https://ccs-houston.com/wp-content/uploads/2026/04/Banner-1.jpg
END:VEVENT
END:VCALENDAR